BEGIN:VCALENDAR
VERSION:2.0
PRODID:-//discovergreenwood.com - ECPv6.15.20//NONSGML v1.0//EN
CALSCALE:GREGORIAN
METHOD:PUBLISH
X-WR-CALNAME:discovergreenwood.com
X-ORIGINAL-URL:https://discovergreenwood.com
X-WR-CALDESC:Events for discovergreenwood.com
REFRESH-INTERVAL;VALUE=DURATION:PT1H
X-Robots-Tag:noindex
X-PUBLISHED-TTL:PT1H
BEGIN:VTIMEZONE
TZID:America/Detroit
BEGIN:DAYLIGHT
TZOFFSETFROM:-0500
TZOFFSETTO:-0400
TZNAME:EDT
DTSTART:20250309T070000
END:DAYLIGHT
BEGIN:STANDARD
TZOFFSETFROM:-0400
TZOFFSETTO:-0500
TZNAME:EST
DTSTART:20251102T060000
END:STANDARD
BEGIN:DAYLIGHT
TZOFFSETFROM:-0500
TZOFFSETTO:-0400
TZNAME:EDT
DTSTART:20260308T070000
END:DAYLIGHT
BEGIN:STANDARD
TZOFFSETFROM:-0400
TZOFFSETTO:-0500
TZNAME:EST
DTSTART:20261101T060000
END:STANDARD
BEGIN:DAYLIGHT
TZOFFSETFROM:-0500
TZOFFSETTO:-0400
TZNAME:EDT
DTSTART:20270314T070000
END:DAYLIGHT
BEGIN:STANDARD
TZOFFSETFROM:-0400
TZOFFSETTO:-0500
TZNAME:EST
DTSTART:20271107T060000
END:STANDARD
END:VTIMEZONE
BEGIN:VEVENT
DTSTART;TZID=America/Detroit:20260912T080000
DTEND;TZID=America/Detroit:20260912T210000
DTSTAMP:20260421T202133
CREATED:20250904T143754Z
LAST-MODIFIED:20260210T175046Z
UID:14112-1789200000-1789246800@discovergreenwood.com
SUMMARY:Hodges Lights on Main
DESCRIPTION:A tribute to all law enforcement and first responder officers in commemoration of the 9/11 anniversary.  Food\, fun\, games\, and a moving musical light show ends the event at 9:11 pm each year.
URL:https://discovergreenwood.com/event/hodges-lights-on-main/
LOCATION:SC
CATEGORIES:Festivals & Events
ATTACH;FMTTYPE=image/jpeg:https://discovergreenwood.com/wp-content/uploads/2022/08/lightsonmainmedia.jpg
END:VEVENT
BEGIN:VEVENT
DTSTART;TZID=America/Detroit:20261017T100000
DTEND;TZID=America/Detroit:20261017T140000
DTSTAMP:20260421T202133
CREATED:20250904T155629Z
LAST-MODIFIED:20260210T175113Z
UID:14134-1792231200-1792245600@discovergreenwood.com
SUMMARY:iMAGINE Lakelands STEAM Festival
DESCRIPTION:A Celebration of Science\, Technology\, Engineering\, Arts & Mathematics for Abbeville\, Edgefield\, Greenwood\, Laurens\, McCormick\, Newberry\, & Saluda Counties
URL:https://discovergreenwood.com/event/imagine-lakelands-steam-festival/
LOCATION:SC
CATEGORIES:Arts & Culture,Festivals & Events
ATTACH;FMTTYPE=image/jpeg:https://discovergreenwood.com/wp-content/uploads/2022/09/imagine-steam-fest-2019.jpg
END:VEVENT
BEGIN:VEVENT
DTSTART;TZID=America/Detroit:20261029T173000
DTEND;TZID=America/Detroit:20261029T193000
DTSTAMP:20260421T202133
CREATED:20250904T160414Z
LAST-MODIFIED:20260210T175014Z
UID:14136-1793295000-1793302200@discovergreenwood.com
SUMMARY:Boo Bash
DESCRIPTION:Cornerstone and Uptown Greenwood\, partner to encourage kids to say “boo to drugs” at our this annual event that occurs every October. This event offers plenty of candy for the kiddos and a costume contest for every age!
URL:https://discovergreenwood.com/event/boo-bash/
LOCATION:Cornerstone & Uptown Greenwood\, 220 Maxwell Ave\, Greenwood\, SC\, 29649\, United States
CATEGORIES:Festivals & Events
ATTACH;FMTTYPE=image/jpeg:https://discovergreenwood.com/wp-content/uploads/2022/09/BooBash-2021-102-scaled.jpg
END:VEVENT
END:VCALENDAR