BEGIN:VCALENDAR
VERSION:2.0
PRODID:-//discovergreenwood.com - ECPv6.15.20//NONSGML v1.0//EN
CALSCALE:GREGORIAN
METHOD:PUBLISH
X-WR-CALNAME:discovergreenwood.com
X-ORIGINAL-URL:https://discovergreenwood.com
X-WR-CALDESC:Events for discovergreenwood.com
REFRESH-INTERVAL;VALUE=DURATION:PT1H
X-Robots-Tag:noindex
X-PUBLISHED-TTL:PT1H
BEGIN:VTIMEZONE
TZID:America/Detroit
BEGIN:DAYLIGHT
TZOFFSETFROM:-0500
TZOFFSETTO:-0400
TZNAME:EDT
DTSTART:20240310T070000
END:DAYLIGHT
BEGIN:STANDARD
TZOFFSETFROM:-0400
TZOFFSETTO:-0500
TZNAME:EST
DTSTART:20241103T060000
END:STANDARD
BEGIN:DAYLIGHT
TZOFFSETFROM:-0500
TZOFFSETTO:-0400
TZNAME:EDT
DTSTART:20250309T070000
END:DAYLIGHT
BEGIN:STANDARD
TZOFFSETFROM:-0400
TZOFFSETTO:-0500
TZNAME:EST
DTSTART:20251102T060000
END:STANDARD
BEGIN:DAYLIGHT
TZOFFSETFROM:-0500
TZOFFSETTO:-0400
TZNAME:EDT
DTSTART:20260308T070000
END:DAYLIGHT
BEGIN:STANDARD
TZOFFSETFROM:-0400
TZOFFSETTO:-0500
TZNAME:EST
DTSTART:20261101T060000
END:STANDARD
END:VTIMEZONE
BEGIN:VEVENT
DTSTART;TZID=America/Detroit:20251204T193000
DTEND;TZID=America/Detroit:20251207T180000
DTSTAMP:20260421T162039
CREATED:20250904T162532Z
LAST-MODIFIED:20251009T135907Z
UID:14146-1764876600-1765130400@discovergreenwood.com
SUMMARY:The Greatest Christmas Pageant Ever
DESCRIPTION:The Best Christmas Pageant Ever \n\n\n\nPurchase Tickets Here: https://www.tix.com/ticket-sales/gct/6741 \n\n\n\nSponsored by Greenwood Regional Rehabilitation Hospital \nDecember 4\, 5\, 6: 7:30PM\nDecember 6: 2:00PM\nDecember 7: 6:00PM \nIn this hilarious Christmas classic\, a couple struggling to put on a church Christmas pageant is faced with casting the Herdman kids – probably the most inventively awful kids in history. You won’t believe the mayhem – and the fun – when the Herdmans collide head-on with the story of Christmas! \nThis delightful show is adapted from the bestselling Young Adult book and has become a holiday staple for groups across the United States. The crowd-pleasing comedy features plenty of great roles for children and adults\, a few favorite Christmas Carols\, and lots of laughs.
URL:https://discovergreenwood.com/event/the-greatest-christmas-pageant-ever/
LOCATION:Greenwood Community Theatre\, 110 Main Street\, Grenwood\, SC\, 29646\, United States
CATEGORIES:Arts & Culture,Performance
ATTACH;FMTTYPE=image/png:https://discovergreenwood.com/wp-content/uploads/2024/12/greatestchristmaspagent-e1735935925844.png
END:VEVENT
BEGIN:VEVENT
DTSTART;TZID=America/Detroit:20251204T180000
DTEND;TZID=America/Detroit:20251206T203000
DTSTAMP:20260421T162039
CREATED:20250904T162254Z
LAST-MODIFIED:20251009T133132Z
UID:14143-1764871200-1765053000@discovergreenwood.com
SUMMARY:Christmas at Connie Maxwell
DESCRIPTION:Thursday 6:00-8:30pm \nFriday 6:00-8:30pm \nSaturday 6:00-8:30pm \nJoin us for a spectacular live nativity performance\, concert series\, and Christmas village\, where you can enjoy a petting zoo\, hot chocolate\, wagon rides\, and a photo booth.
URL:https://discovergreenwood.com/event/christmas-at-connie-maxwell/
LOCATION:SC
CATEGORIES:Festivals & Events
ATTACH;FMTTYPE=image/jpeg:https://discovergreenwood.com/wp-content/uploads/2022/11/Connie-Maxwell-Christmas-Celebration.jpeg
END:VEVENT
BEGIN:VEVENT
DTSTART;TZID=America/Detroit:20251115T100000
DTEND;TZID=America/Detroit:20251115T170000
DTSTAMP:20260421T162039
CREATED:20250904T161855Z
LAST-MODIFIED:20251016T154729Z
UID:14141-1763200800-1763226000@discovergreenwood.com
SUMMARY:Holiday Open House
DESCRIPTION:Uptown Merchants showcase their decorated stores and holiday offerings. Community partners provide hot cocoa stations\, carolers\, and entertainment for shoppers.  \nFor more information\, visit uptowngreenwood.com!
URL:https://discovergreenwood.com/event/holiday-open-house/
LOCATION:SC
CATEGORIES:Festivals & Events
ATTACH;FMTTYPE=image/jpeg:https://discovergreenwood.com/wp-content/uploads/2022/09/Holiday-Open-House-Uptown-Greenwood-2021-LMB_7378-scaled.jpg
END:VEVENT
BEGIN:VEVENT
DTSTART;TZID=America/Detroit:20251025T140000
DTEND;TZID=America/Detroit:20251103T140000
DTSTAMP:20260421T162039
CREATED:20250904T161046Z
LAST-MODIFIED:20251016T155337Z
UID:14139-1761400800-1762178400@discovergreenwood.com
SUMMARY:Hairspray
DESCRIPTION:Hairspray \n\n\n\nPurchase Tickets Here: https://www.tix.com/ticket-sales/gct/6741 \n\n\nSponsored by Self Regional Healthcare \nOctober 25\, 31\, Nov 1: 7:30PM\nOctober 25\, 26\, Nov 1: 2 2:00PM \nThe 1950s are out\, and change is in the air! Hairspray\, winner of eight Tony Awards\, including Best Musical\, is a family-friendly musical\, piled bouffant-high with laughter\, romance and deliriously tuneful songs. \nIt’s 1962 in Baltimore\, and the lovable plus-size teen\, Tracy Turnblad\, has only one desire – to dance on the popular “Corny Collins Show.” When her dream comes true\, Tracy is transformed from social outcast to sudden star. She must use her newfound power to dethrone the reigning Teen Queen\, win the affections of heartthrob\, Link Larkin\, and integrate a TV network… all without denting her ‘do!
URL:https://discovergreenwood.com/event/hairspray/
LOCATION:Greenwood Community Theatre\, 110 Main Street\, Grenwood\, SC\, 29646\, United States
CATEGORIES:Arts & Culture,Performance
ATTACH;FMTTYPE=image/png:https://discovergreenwood.com/wp-content/uploads/2024/12/hairspray-e1735935890955.png
END:VEVENT
BEGIN:VEVENT
DTSTART;TZID=America/Detroit:20250918T193000
DTEND;TZID=America/Detroit:20250921T140000
DTSTAMP:20260421T162039
CREATED:20250904T144926Z
LAST-MODIFIED:20250904T144926Z
UID:14131-1758223800-1758463200@discovergreenwood.com
SUMMARY:101 Dalmatians Kids
DESCRIPTION:GCT Penguin Project presents 101 Dalmations Kids \n\n\n\nPurchase Tickets Here: https://www.tix.com/ticket-sales/gct/6741 \n\nGCT Penguin Project \nSeptember 18\, 19 7:30PM\nSeptember 20\, 21 2:00PM \nBased on the classic animated film\, Disney’s 101 Dalmatians KIDS is a fur-raising adventure featuring Cruella De Vil\, Disney’s most outrageous villain\, and 101 of the most adorable heroes to set their paws onstage. With a high-spirited score and lovable characters\, this stage adaptation is certain to charm and delight all audiences.
URL:https://discovergreenwood.com/event/101-dalmatians-kids/
LOCATION:SC
CATEGORIES:Arts & Culture,Festivals & Events,Performance
ATTACH;FMTTYPE=image/png:https://discovergreenwood.com/wp-content/uploads/2024/12/101dalmatians-e1735935837734.png
END:VEVENT
END:VCALENDAR